BEGIN:VCALENDAR
VERSION:2.0
PRODID:-//ChamberMaster//Event Calendar 2.0//EN
METHOD:PUBLISH
X-PUBLISHED-TTL:P3D
REFRESH-INTERVAL:P3D
CALSCALE:GREGORIAN
BEGIN:VEVENT
DTSTART:20190515T013000Z
DTEND:20190515T030000Z
X-MICROSOFT-CDO-ALLDAYEVENT:FALSE
SUMMARY:Getting from Here to There - Sno-Isle Libraries Foundation
DESCRIPTION:The Puget Sound region is a beautiful and rewarding place to live\, work\, and play. Growth is making the traveling between these homes\, jobs and recreational opportunities increasingly difficult.\n\n\n\nPanelists will discuss how our transportation projects and choices may shape our neighborhoods\, cities and lives.
X-ALT-DESC;FMTTYPE=text/html:The Puget Sound region is a beautiful and rewarding place to live\, work\, and play. Growth is making the traveling between these homes\, jobs and recreational opportunities increasingly difficult.<br />\n<br />\nPanelists will discuss how our transportation projects and choices may shape our neighborhoods\, cities and lives.
LOCATION:Lynnwood Library 19200 44th Ave. W Lynnwood\, WA 98036
UID:e.3041.850
SEQUENCE:3
DTSTAMP:20260422T153424Z
URL:https://business.lynnwoodchamber.org/events/details/getting-from-here-to-there-sno-isle-libraries-foundation-850
END:VEVENT

END:VCALENDAR
