BEGIN:VCALENDAR
VERSION:2.0
PRODID:-//ChamberMaster//Event Calendar 2.0//EN
METHOD:PUBLISH
X-PUBLISHED-TTL:P3D
REFRESH-INTERVAL:P3D
CALSCALE:GREGORIAN
BEGIN:VEVENT
DTSTART:20191221T190000Z
DTEND:20191224T230000Z
X-MICROSOFT-CDO-ALLDAYEVENT:FALSE
SUMMARY:Free Santa Photos at Mr. Kleen 76 Station
DESCRIPTION:Free Santa photos with our wonderful Santa in our Vintage tent. No lines. No waiting. Cookies\, Hot Chocolate\, Coupons and Candy for everyone! Bring your family\, friends and favorite furry creatures. We look forward to seeing you! Merry Christmas!
X-ALT-DESC;FMTTYPE=text/html:Free Santa photos with our wonderful Santa in our Vintage tent. No lines. No waiting. Cookies\, Hot Chocolate\, Coupons and Candy for everyone! Bring your family\, friends and favorite furry creatures. We look forward to seeing you! Merry Christmas!
LOCATION:Mr. Kleen 76 Station 19611 Alderwood Mall Pkwy Lynnwood\, WA 98036
UID:e.3041.908
SEQUENCE:3
DTSTAMP:20260422T064520Z
URL:https://business.lynnwoodchamber.org/events/details/free-santa-photos-at-mr-kleen-76-station-908
END:VEVENT

END:VCALENDAR
