BEGIN:VCALENDAR
VERSION:2.0
PRODID:-//ChamberMaster//Event Calendar 2.0//EN
METHOD:PUBLISH
X-PUBLISHED-TTL:P3D
REFRESH-INTERVAL:P3D
CALSCALE:GREGORIAN
BEGIN:VEVENT
DTSTART:20210424T170000Z
DTEND:20210424T220000Z
X-MICROSOFT-CDO-ALLDAYEVENT:FALSE
SUMMARY:FREE LIVE VIRTUAL HOMEBUYER’S EDUCATION CLASS APPROVED BY THE WSHFC
DESCRIPTION:Have you thought about buying a home\, but don't know where to start? Join this free session and be a well-prepared and informed homebuyer! This class is virtual\, open to the public and presented in an unbiased format. In this zoom webinar\, you will gain a comprehensive understanding of the homebuying process from start to finish.
X-ALT-DESC;FMTTYPE=text/html:Have you thought about buying a home\, but don&rsquo\;t know where to start? Join this free session and be a well-prepared and informed homebuyer! This class is virtual\, open to the public and presented in an unbiased format. In this zoom webinar\, you will gain a comprehensive understanding of the homebuying process from start to finish.
LOCATION:Virtual
UID:e.3041.970
SEQUENCE:3
DTSTAMP:20260421T102323Z
URL:https://business.lynnwoodchamber.org/events/details/free-live-virtual-homebuyer-s-education-class-approved-by-the-wshfc-970
END:VEVENT

END:VCALENDAR
