BEGIN:VCALENDAR
VERSION:2.0
PRODID:-//ChamberMaster//Event Calendar 2.0//EN
METHOD:PUBLISH
X-PUBLISHED-TTL:P3D
REFRESH-INTERVAL:P3D
CALSCALE:GREGORIAN
BEGIN:VEVENT
DTSTART:20210529T170000Z
DTEND:20210529T220000Z
X-MICROSOFT-CDO-ALLDAYEVENT:FALSE
SUMMARY:FREE Live Virtual Homebuyer's Education Class approved by the WSHFC
DESCRIPTION:Have you thought about buying a home\, but don't know where to start? Join this free session and be a well-prepared and informed homebuyer! This class is virtual\, open to the public and presented in an unbiased format. In this zoom webinar\, you will gain a comprehensive understanding of the homebuying process from start to finish. This is a great opportunity to get answers to all your questions such as: ?Should you rent or buy? ? How much can you afford? ? How does your credit affect the mortgage process? ? What loan programs and financing assistance are available to you? ? How does the mortgage loan application process work? ? What type of home loan is right for you? ??Completing the class awards you with a WSHFC Homebuyer's Education Certificate. This helps with eligibility for various mortgage and housing financial assistance programs including zero-interest down payment assistance. ?? Space is limited so be sure to RSVP as soon as possible https://homebuyersworkshop529.eventbrite.com/
X-ALT-DESC;FMTTYPE=text/html:Have you thought about buying a home\, but don&rsquo\;t know where to start? Join this free session and be a well-prepared and informed homebuyer! This class is virtual\, open to the public and presented in an unbiased format. In this zoom webinar\, you will gain a comprehensive understanding of the homebuying process from start to finish. This is a great opportunity to get answers to all your questions such as: ?Should you rent or buy? ? How much can you afford? ? How does your credit affect the mortgage process? ? What loan programs and financing assistance are available to you? ? How does the mortgage loan application process work? ? What type of home loan is right for you? ??Completing the class awards you with a WSHFC Homebuyer&rsquo\;s Education Certificate. This helps with eligibility for various mortgage and housing financial assistance programs including zero-interest down payment assistance. ?? Space is limited so be sure to RSVP as soon as possible https://homebuyersworkshop529.eventbrite.com/
LOCATION:VIRTUAL
UID:e.3041.971
SEQUENCE:3
DTSTAMP:20260421T085715Z
URL:https://business.lynnwoodchamber.org/events/details/free-live-virtual-homebuyer-s-education-class-approved-by-the-wshfc-05-29-2021-971
END:VEVENT

END:VCALENDAR
