BEGIN:VCALENDAR
VERSION:2.0
PRODID:-//ChamberMaster//Event Calendar 2.0//EN
METHOD:PUBLISH
X-PUBLISHED-TTL:P3D
REFRESH-INTERVAL:P3D
CALSCALE:GREGORIAN
BEGIN:VEVENT
DTSTART:20180714T150000Z
DTEND:20180714T210000Z
X-MICROSOFT-CDO-ALLDAYEVENT:FALSE
SUMMARY:Free Dental Day!
DESCRIPTION:Everyone by One Presents:\n\nFree Dental Day!\n\nChildren (up to age 14) qualify for free dental treatment and no insurance needed. A screening appointment is required on either June 25 or July 9.\n\nServices Provided:  Digital X-rays\, cleanings\, tooth-colored fillings\, dental sealants and flouride
X-ALT-DESC;FMTTYPE=text/html:Everyone by One Presents:<br />\nFree Dental Day!<br />\nChildren (up to age 14) qualify for free dental treatment and no insurance needed. A screening appointment is required on either June 25 or July 9.<br />\nServices Provided:&nbsp\; Digital X-rays\, cleanings\, tooth-colored fillings\, dental sealants and flouride<br />\n&nbsp\;
LOCATION:16006 Ash Way\, Suite 103 Lynnwood\, WA 98087
UID:e.3041.380
SEQUENCE:3
DTSTAMP:20260423T052818Z
URL:https://business.lynnwoodchamber.org/events/details/free-dental-day-380
END:VEVENT

END:VCALENDAR
