BEGIN:VCALENDAR
VERSION:2.0
PRODID:-//ChamberMaster//Event Calendar 2.0//EN
METHOD:PUBLISH
X-PUBLISHED-TTL:P3D
REFRESH-INTERVAL:P3D
CALSCALE:GREGORIAN
BEGIN:VEVENT
DTSTART:20190512T170000Z
DTEND:20190513T000000Z
X-MICROSOFT-CDO-ALLDAYEVENT:FALSE
SUMMARY:Free Carnation for Mom and Coupons\, Too! Come See Mr. Kleen!
DESCRIPTION:Free Carnation for Mom on Sunday\, May 12 (while supplies last)\n\nMr. Kleen coupons\, too!
X-ALT-DESC;FMTTYPE=text/html:Free Carnation for Mom on Sunday\, May 12 (while supplies last)<br />\nMr. Kleen coupons\, too!
LOCATION:19611 Alderwood Mall Parkway 10:00 - 11:30am and 1:00 - 5:00pm 19907 44th Ave. W. 12:00 - 1:00pm
UID:e.3041.851
SEQUENCE:3
DTSTAMP:20260422T153749Z
URL:https://business.lynnwoodchamber.org/events/details/free-carnation-for-mom-and-coupons-too-come-see-mr-kleen-851
END:VEVENT

END:VCALENDAR
