BEGIN:VCALENDAR
VERSION:2.0
PRODID:-//ChamberMaster//Event Calendar 2.0//EN
METHOD:PUBLISH
X-PUBLISHED-TTL:P3D
REFRESH-INTERVAL:P3D
CALSCALE:GREGORIAN
BEGIN:VEVENT
DTSTART:20190616T170000Z
DTEND:20190617T000000Z
X-MICROSOFT-CDO-ALLDAYEVENT:FALSE
SUMMARY:Father's Day at Mr. Kleen
DESCRIPTION:Have fun with Dad! Free toy propellers\, planes\, Sugar Daddy candy and coupons when you stop by the Mr. Kleen station. While supplies last.
X-ALT-DESC;FMTTYPE=text/html:Have fun with Dad! Free toy propellers\, planes\, Sugar Daddy candy and coupons when you stop by the Mr. Kleen station. While supplies last.
LOCATION:19611 Alderwood Mall Pkwy & 19907 44th Av W.\, Lynnwood
UID:e.3041.859
SEQUENCE:3
DTSTAMP:20260422T142712Z
URL:https://business.lynnwoodchamber.org/events/details/father-s-day-at-mr-kleen-859
END:VEVENT

END:VCALENDAR
