BEGIN:VCALENDAR
VERSION:2.0
PRODID:-//ChamberMaster//Event Calendar 2.0//EN
METHOD:PUBLISH
X-PUBLISHED-TTL:P3D
REFRESH-INTERVAL:P3D
CALSCALE:GREGORIAN
BEGIN:VEVENT
DTSTART:20171109T010000Z
DTEND:20171109T030000Z
X-MICROSOFT-CDO-ALLDAYEVENT:FALSE
SUMMARY:Fairway Independent Mortgage Open House & Ribbon Cutting
DESCRIPTION:Join fellow Chamber members as well as local citizens and business owners as we celebrate an open house at Fairway Independent Mortgage. \np.p1 {margin: 0.0px 0.0px 0.0px 0.0px\; font: 24.0px Helvetica\; -webkit-text-stroke: #000000}\nspan.s1 {font-kerning: none}
X-ALT-DESC;FMTTYPE=text/html:Join fellow Chamber members as well as local citizens and business owners as we celebrate an open house at Fairway Independent Mortgage.&nbsp\;\n<style type="text/css">p.p1 {margin: 0.0px 0.0px 0.0px 0.0px\; font: 24.0px Helvetica\; -webkit-text-stroke: #000000}\nspan.s1 {font-kerning: none}\n</style>\n<p class="p1">&nbsp\;</p>\n
LOCATION:19000 33rd Avenue West Lynnwood 98036
UID:e.3041.29
SEQUENCE:3
DTSTAMP:20260423T194005Z
URL:https://business.lynnwoodchamber.org/events/details/fairway-independent-mortgage-open-house-ribbon-cutting-29
END:VEVENT

END:VCALENDAR
