BEGIN:VCALENDAR
VERSION:2.0
PRODID:-//ChamberMaster//Event Calendar 2.0//EN
METHOD:PUBLISH
X-PUBLISHED-TTL:P3D
REFRESH-INTERVAL:P3D
CALSCALE:GREGORIAN
BEGIN:VEVENT
DTSTART:20180908T170000Z
DTEND:20180908T210000Z
X-MICROSOFT-CDO-ALLDAYEVENT:FALSE
SUMMARY:Fair on 44th Block Party
DESCRIPTION:Saturday\, September 8\, 2018\, 10am - 2pm
X-ALT-DESC;FMTTYPE=text/html:<h3 style="font-size: 1.3em\; color: rgb(0\, 0\, 0)\; margin: 30px 0px 10px\; line-height: 1.2em\; font-family: &quot\;Gill Sans MT&quot\;\, Calibri\, sans-serif\;">Saturday\, September&nbsp\;8\, 2018\, 10am - 2pm<br />\n&nbsp\;</h3>\n
LOCATION:44th Ave W (between Lynnwood Library to Fire Station #15)
UID:e.3041.671
SEQUENCE:3
DTSTAMP:20260423T024248Z
URL:https://business.lynnwoodchamber.org/events/details/fair-on-44th-block-party-671
END:VEVENT

END:VCALENDAR
