BEGIN:VCALENDAR
VERSION:2.0
PRODID:-//ChamberMaster//Event Calendar 2.0//EN
METHOD:PUBLISH
X-PUBLISHED-TTL:P3D
REFRESH-INTERVAL:P3D
CALSCALE:GREGORIAN
BEGIN:VEVENT
DTSTART:20180612T233000Z
DTEND:20180613T023000Z
X-MICROSOFT-CDO-ALLDAYEVENT:FALSE
SUMMARY:Embassy Suites by Hilton North Lynnwood Grand Reopening
DESCRIPTION:Grand Reopening of the Embassy Suites by Hilton North Lynnwood.\n\nIt's a Speakeasy!\n\nCostumes encouraged!
X-ALT-DESC;FMTTYPE=text/html:Grand Reopening&nbsp\;of the Embassy Suites by Hilton North Lynnwood.<br />\nIt&#39\;s a Speakeasy!<br />\nCostumes encouraged!<br />\n&nbsp\;
LOCATION:20610 44th Ave. W. Lynnwood\, Wa 98036
UID:e.3041.242
SEQUENCE:3
DTSTAMP:20260423T064924Z
URL:https://business.lynnwoodchamber.org/events/details/embassy-suites-by-hilton-north-lynnwood-grand-reopening-242
END:VEVENT

END:VCALENDAR
