BEGIN:VCALENDAR
VERSION:2.0
PRODID:-//ChamberMaster//Event Calendar 2.0//EN
METHOD:PUBLISH
X-PUBLISHED-TTL:P3D
REFRESH-INTERVAL:P3D
CALSCALE:GREGORIAN
BEGIN:VEVENT
DTSTART;VALUE=DATE:20190518
DTEND;VALUE=DATE:20190519
TRANSP:TRANSPARENT
X-MICROSOFT-CDO-ALLDAYEVENT:TRUE
SUMMARY:Edmonds Jazz Connection
DESCRIPTION:The Rotary Club of Edmonds Daybreakers is proud to sponsor the 19th annual Edmonds Jazz Connection Festival in downtown Edmonds.\n\nJoin us for a full day of amazing award-winning jazz performances\, and help us raise funds to support innovative classroom programs\, that help create an exceptional music education experience throughout our region!
X-ALT-DESC;FMTTYPE=text/html:<p style="margin: 0px 0px 0.75em\; font-size: 1.125em\; color: rgb(100\, 100\, 111)\; font-family: &quot\;?Open Sans?&quot\;\, sans-serif\;"><span style="font-size:12px\;">The Rotary Club of Edmonds Daybreakers is proud to sponsor the 19th annual Edmonds Jazz Connection Festival in downtown Edmonds.</span></p>\n\n<p style="margin: 0px 0px 0.75em\; font-size: 1.125em\; color: rgb(100\, 100\, 111)\; font-family: &quot\;?Open Sans?&quot\;\, sans-serif\;"><span style="font-size:12px\;">Join us for a full day of amazing award-winning jazz performances\, and help us raise funds to support innovative classroom programs\, that help create an exceptional music education experience throughout our region!</span></p>\n
LOCATION:Back at Three Great Edmonds Venues! Big Bands Edmonds Center for the Arts: 9:00 4:30 Chorals North Sound Center: 9:30 4:30 Combos Edmonds Theater: 9:30 4:30
UID:e.3041.837
SEQUENCE:3
DTSTAMP:20260422T165309Z
URL:https://business.lynnwoodchamber.org/events/details/edmonds-jazz-connection-837
END:VEVENT

END:VCALENDAR
