BEGIN:VCALENDAR
VERSION:2.0
PRODID:-//ChamberMaster//Event Calendar 2.0//EN
METHOD:PUBLISH
X-PUBLISHED-TTL:P3D
REFRESH-INTERVAL:P3D
CALSCALE:GREGORIAN
BEGIN:VEVENT
DTSTART:20200401T170000Z
DTEND:20200401T180000Z
X-MICROSOFT-CDO-ALLDAYEVENT:FALSE
SUMMARY:Economic Update with James McCafferty
DESCRIPTION:Join us as we welcome James McCafferty\, Director\, Center for Economic and Business Research at Western Washington University. James will present an economic update and take questions from attendees.
X-ALT-DESC;FMTTYPE=text/html:Join us as we welcome James McCafferty\, Director\, Center for Economic and Business Research at Western Washington University. James will present an economic update and take questions from attendees.
LOCATION:Register in advance for this meeting: https://zoom.us/meeting/register/v5wsf-2hrD8u_BLcTYPYu2VF7GQM0BgW3w After registering\, you will receive a confirmation email containing information about joining the meeting.
UID:e.3041.928
SEQUENCE:3
DTSTAMP:20260422T013814Z
URL:https://business.lynnwoodchamber.org/events/details/economic-update-with-james-mccafferty-928
END:VEVENT

END:VCALENDAR
