BEGIN:VCALENDAR
VERSION:2.0
PRODID:-//ChamberMaster//Event Calendar 2.0//EN
METHOD:PUBLISH
X-PUBLISHED-TTL:P3D
REFRESH-INTERVAL:P3D
CALSCALE:GREGORIAN
BEGIN:VEVENT
DTSTART:20181016T233000Z
DTEND:20181017T013000Z
X-MICROSOFT-CDO-ALLDAYEVENT:FALSE
SUMMARY:EASC Public Officials Reception
DESCRIPTION:Join us for EASC's Annual Public Officials Reception as we offer the unique opportunity to talk about important issues facing Snohomish County by connecting community & business leaders with elected officials in the region from all levels of government ranging from local\, state\, to federal. There is no better time to chat with your elected officials about the issues that matter most to you and take this opportunity to learn more about those that represent you in the community. Appetizers will be served. No-host bar available. If you are an Elected Official we would like to invite you as our guest   please e-mail NicoleA@economicalliancesc.org or RSVP or use the form at the bottom of the following web page: https://www.economicalliancesc.org/events/public-officials/. We look forward to having you there!
X-ALT-DESC;FMTTYPE=text/html:Join us for EASC&rsquo\;s Annual Public Officials Reception as we offer the unique opportunity to talk about important issues facing Snohomish County by connecting community &amp\; business leaders with elected officials in the region from all levels of government ranging from local\, state\, to federal. There is no better time to chat with your elected officials about the issues that matter most to you and take this opportunity to learn more about those that represent you in the community. Appetizers will be served. No-host bar available. If you are an Elected Official we would like to invite you as our guest &ndash\; please e-mail NicoleA@economicalliancesc.org or RSVP or use the form at the bottom of the following web page: https://www.economicalliancesc.org/events/public-officials/. We look forward to having you there!
LOCATION:Public Officials Reception 3003 Colby Ave\, Everett
UID:e.3041.400
SEQUENCE:3
DTSTAMP:20260423T011506Z
URL:https://business.lynnwoodchamber.org/events/details/easc-public-officials-reception-400
END:VEVENT

END:VCALENDAR
