BEGIN:VCALENDAR
VERSION:2.0
PRODID:-//ChamberMaster//Event Calendar 2.0//EN
METHOD:PUBLISH
X-PUBLISHED-TTL:P3D
REFRESH-INTERVAL:P3D
CALSCALE:GREGORIAN
BEGIN:VEVENT
DTSTART:20180725T000000Z
DTEND:20180725T020000Z
X-MICROSOFT-CDO-ALLDAYEVENT:FALSE
SUMMARY:EASC Business After Hours
DESCRIPTION:Join Economic Alliance Snohomish County for new business connections\, appetizers\, and raffle prizes at our monthly Business After Hours. This month Everett Community College will feature interactive simulations from different departments and programs: Health Sciences\, Advanced Manufacturing\, Cosmetology\, and IT. About our Host: Take college classes and even get your two-year degree east of the trestle. EvCC's East County Campus offers day and evening classes in Monroe and much more. Here\, you'll get personal attention from a tight-knit staff with instructors who know your name. Come chat with us about your college goals today. We also offer a wide range of customized training solutions for employers through EvCC's Corporate & Continuing Education Center.
X-ALT-DESC;FMTTYPE=text/html:Join Economic Alliance Snohomish County for new business connections\, appetizers\, and raffle prizes at our monthly Business After Hours. This month Everett Community College will feature interactive simulations from different departments and programs: Health Sciences\, Advanced Manufacturing\, Cosmetology\, and IT. About our Host: Take college classes and even get your two-year degree east of the trestle. EvCC&rsquo\;s East County Campus offers day and evening classes in Monroe and much more. Here\, you&rsquo\;ll get personal attention from a tight-knit staff with instructors who know your name. Come chat with us about your college goals today. We also offer a wide range of customized training solutions for employers through EvCC&rsquo\;s Corporate &amp\; Continuing Education Center.
LOCATION:EvCC East County Campus 14090 Fryelands Blvd. SE\, Suite 283\, Monroe\, WA
UID:e.3041.395
SEQUENCE:3
DTSTAMP:20260423T052747Z
URL:https://business.lynnwoodchamber.org/events/details/easc-business-after-hours-395
END:VEVENT

END:VCALENDAR
