BEGIN:VCALENDAR
VERSION:2.0
PRODID:-//ChamberMaster//Event Calendar 2.0//EN
METHOD:PUBLISH
X-PUBLISHED-TTL:P3D
REFRESH-INTERVAL:P3D
CALSCALE:GREGORIAN
BEGIN:VEVENT
DTSTART:20180816T230000Z
DTEND:20180817T020000Z
X-MICROSOFT-CDO-ALLDAYEVENT:FALSE
SUMMARY:EASC Business After Hours
DESCRIPTION:Join Economic Alliance Snohomish County for high-level networking in a low-pressure atmosphere as we enjoy appetizers catered by Chef Dane Catering\, hosted craft beverages\, and Summer sun in Snohomish County! This event is a great opportunity to network with the movers\, shakers\, and decision makers of Snohomish County while enjoying the view from the Strato Deck at the Future of Flight. We will also have a brief program to present the John Carsten Ambassador of the Year Award. Space is limited and this event sells out quickly   register today!
X-ALT-DESC;FMTTYPE=text/html:Join Economic Alliance Snohomish County for high-level networking in a low-pressure atmosphere as we enjoy appetizers catered by Chef Dane Catering\, hosted craft beverages\, and Summer sun in Snohomish County! This event is a great opportunity to network with the movers\, shakers\, and decision makers of Snohomish County while enjoying the view from the Strato Deck at the Future of Flight. We will also have a brief program to present the John Carsten Ambassador of the Year Award. Space is limited and this event sells out quickly &ndash\; register today!
LOCATION:Future of Flight Aviation Center & Boeing Tour 8415 Paine Field Blvd.\, Mukilteo\, WA
UID:e.3041.396
SEQUENCE:3
DTSTAMP:20260423T040929Z
URL:https://business.lynnwoodchamber.org/events/details/easc-business-after-hours-08-16-2018-396
END:VEVENT

END:VCALENDAR
