BEGIN:VCALENDAR
VERSION:2.0
PRODID:-//ChamberMaster//Event Calendar 2.0//EN
METHOD:PUBLISH
X-PUBLISHED-TTL:P3D
REFRESH-INTERVAL:P3D
CALSCALE:GREGORIAN
BEGIN:VEVENT
DTSTART:20200221T010000Z
DTEND:20200221T030000Z
X-MICROSOFT-CDO-ALLDAYEVENT:FALSE
SUMMARY:Earthquakes in the Pacific Northwest: Are You Ready?
DESCRIPTION:Come and learn about:\n\n	Seismic activity in the Pacific Northwest\n	What to do before\, during and after a major disaster\n	How to build an emergency kit to survive!\n\nPresented by King's and Brighton schools with the support of the UW Seismology lab.
X-ALT-DESC;FMTTYPE=text/html:Come and learn about:\n<ul>\n	<li>Seismic activity in the Pacific Northwest</li>\n	<li>What to do before\, during and after a major disaster</li>\n	<li>How to build an emergency kit to survive!</li>\n</ul>\nPresented by King&#39\;s and Brighton schools with the support of the UW Seismology lab.
LOCATION:Edmonds Library 650 Main St Edmonds\, WA 98020
UID:e.3041.913
SEQUENCE:3
DTSTAMP:20260424T082651Z
URL:https://business.lynnwoodchamber.org/events/details/earthquakes-in-the-pacific-northwest-are-you-ready-913
END:VEVENT

END:VCALENDAR
