BEGIN:VCALENDAR
VERSION:2.0
PRODID:-//ChamberMaster//Event Calendar 2.0//EN
METHOD:PUBLISH
X-PUBLISHED-TTL:P3D
REFRESH-INTERVAL:P3D
CALSCALE:GREGORIAN
BEGIN:VEVENT
DTSTART:20180821T210000Z
DTEND:20180822T020000Z
X-MICROSOFT-CDO-ALLDAYEVENT:FALSE
SUMMARY:Drive By Food Drive
DESCRIPTION:Help us kick off the school year with this fun food drive. You do not even have to get out of your car. Just "drive thru" the lower level of the Edmonds United Methodist Church. Washington Kids in Transition volunteers will be there to meet you. We provide 32\,000 small bags of food to students who ride the McKinney Vento busses. For some of these kids\, it may be the only food they have to eat until they return to school the next day.
X-ALT-DESC;FMTTYPE=text/html:Help us kick off the school year with this fun food drive. You do not even have to get out of your car. Just &quot\;drive thru&quot\; the lower level of the Edmonds United Methodist Church. Washington Kids in Transition volunteers will be there to meet you. We provide 32\,000 small bags of food to students who ride the McKinney Vento busses. For some of these kids\, it may be the only food they have to eat until they return to school the next day.
LOCATION:Edmonds Methodist Church - Lower level parking lot
UID:e.3041.662
SEQUENCE:3
DTSTAMP:20260423T040916Z
URL:https://business.lynnwoodchamber.org/events/details/drive-by-food-drive-662
END:VEVENT

END:VCALENDAR
