BEGIN:VCALENDAR
VERSION:2.0
PRODID:-//ChamberMaster//Event Calendar 2.0//EN
METHOD:PUBLISH
X-PUBLISHED-TTL:P3D
REFRESH-INTERVAL:P3D
CALSCALE:GREGORIAN
BEGIN:VEVENT
DTSTART:20190123T153000Z
DTEND:20190124T000000Z
X-MICROSOFT-CDO-ALLDAYEVENT:FALSE
SUMMARY:Disney's Approach to Business Excellence
DESCRIPTION:Western Washington University and the Lynnwood Chamber of Commerce are proud to welcome Disney's Approach to Business Excellence professional development course to the Lynnwood Convention Center.\n\n\n\nThere are five powerful lessons in business\, lessons carefully developed by the Disney organization in its never-ending pursuit of excellence. These universal pillars of a successful business - leadership\, culture\, service\, brand and innovation - are the keys to sustained business excellence. Together\, these lessons forge an enduring bond between inspired leaders\, motivated employees\, satisfied customers\, and an ability to drive stakeholder value.\n\n\n\nThroughout this course\, you will discover insights that drive Disney parks and resorts organization and gain awareness of how these insights could be adapted to strengthen your own organizational efforts.
X-ALT-DESC;FMTTYPE=text/html:<span style="font-size:14px\;"><span style="font-family:arial\;"><span style="color: rgb(17\, 17\, 17)\;">Western Washington University and the Lynnwood Chamber of Commerce are proud to welcome Disney&rsquo\;s Approach to Business Excellence professional development course to the Lynnwood Convention Center.<br />\n<br />\nThere are five powerful lessons in business\, lessons carefully developed by the Disney organization in its never-ending pursuit of excellence. These universal pillars of a successful business - leadership\, culture\, service\, brand and innovation - are the keys to sustained business excellence. Together\, these lessons forge an enduring bond between inspired leaders\, motivated employees\, satisfied customers\, and an ability to drive stakeholder value.<br />\n<br />\nThroughout this course\, you will discover insights that drive Disney parks and resorts organization and gain awareness of how these insights could be adapted to strengthen your own organizational efforts.</span></span></span><br />\n&nbsp\;\n<div style="margin: 0px 0px 1em\; padding: 0px\; font-size: 1.6em\; outline: none\; line-height: 1.4em\; color: rgb(17\, 17\, 17)\; font-family: verdana\, arial\, helvetica\, geneva\, sans-serif\;">&nbsp\;</div>\n
LOCATION:Lynnwood Convention Center 3711 196th St. SW Lynnwood\, WA 98036
UID:e.3041.688
SEQUENCE:3
DTSTAMP:20260422T205952Z
URL:https://business.lynnwoodchamber.org/events/details/disney-s-approach-to-business-excellence-688
END:VEVENT

END:VCALENDAR
