BEGIN:VCALENDAR
VERSION:2.0
PRODID:-//ChamberMaster//Event Calendar 2.0//EN
METHOD:PUBLISH
X-PUBLISHED-TTL:P3D
REFRESH-INTERVAL:P3D
CALSCALE:GREGORIAN
BEGIN:VEVENT
DTSTART:20190514T150000Z
DTEND:20190514T163000Z
X-MICROSOFT-CDO-ALLDAYEVENT:FALSE
SUMMARY:Cyber Security 101: Protect Your Business
DESCRIPTION:Learn the basics to protect you and your business from fraud and online account takeover. Chat with Vice President John Bean from Wells Fargo and discover fraud trends and proactive steps to secure your online presence. Breakfast will be served\, networking begins at 7:30
X-ALT-DESC;FMTTYPE=text/html:Learn the basics to protect you and your business from fraud and online account takeover. Chat with Vice President John Bean from Wells Fargo and discover fraud trends and proactive steps to secure your online presence. Breakfast will be served\, networking begins at 7:30
LOCATION:Delta by Marriott Seattle Everett 3105 Pine Street Everett\, WA 98201
UID:e.3041.848
SEQUENCE:3
DTSTAMP:20260422T153429Z
URL:https://business.lynnwoodchamber.org/events/details/cyber-security-101-protect-your-business-848
END:VEVENT

END:VCALENDAR
