BEGIN:VCALENDAR
VERSION:2.0
PRODID:-//ChamberMaster//Event Calendar 2.0//EN
METHOD:PUBLISH
X-PUBLISHED-TTL:P3D
REFRESH-INTERVAL:P3D
CALSCALE:GREGORIAN
BEGIN:VEVENT
DTSTART:20181102T010000Z
DTEND:20181102T030000Z
X-MICROSOFT-CDO-ALLDAYEVENT:FALSE
SUMMARY:Cunard Alaska Cruise Information Night
DESCRIPTION:Cunard Alaska Cruise Night\n\nJoin us for light refreshments and an exciting presentation all about Cunard Line . Learn about their iconic ships that set the standard for sophisticated ocean travel. Experience these luxurious liners renowned for maintaining the standard of British elegance\, and superb White Star Service.\n\n\n\nCunard returns to ALASKA for the first time in 20 years!\n\n\n\nQueen Elizabeth will sail four 10 night Alaska roundtrip voyages from Vancover with ports of call in Skagway\, Juneau\, Ketchican\, Sitka\, Icy Strait Point and Victoria. Highlights include visiting Hubbard Glacier and scenic cruising through the Inside Passage and Tracy Arm Fjord.\n\n\n\nSPACE IS LIMITED\, RSVP TODAY!
X-ALT-DESC;FMTTYPE=text/html:<span style="font-weight:700\;padding-top:0px\;">Cunard Alaska Cruise Night</span><br />\nJoin us for light refreshments and an exciting presentation all about Cunard Line&reg\;. Learn about their iconic ships that set the standard for sophisticated ocean travel. Experience these luxurious liners renowned for maintaining the standard of British elegance\, and superb White Star Service.<br />\n<br />\n<span style="font-weight:700\;padding-top:0px\;">Cunard returns to ALASKA for the first time in 20 years!</span><br />\n<br />\nQueen Elizabeth will sail four 10 night Alaska roundtrip voyages from Vancover with ports of call in Skagway\, Juneau\, Ketchican\, Sitka\, Icy Strait Point and Victoria. Highlights include visiting Hubbard Glacier and scenic cruising through the Inside Passage and Tracy Arm Fjord.<br />\n<br />\nSPACE IS LIMITED\, RSVP TODAY!
LOCATION:Expedia CruiseShipCenters Mill Creek 15415 Main Street\, Suite 104 Mill Creek\, WA 98012
UID:e.3041.686
SEQUENCE:3
DTSTAMP:20260422T235020Z
URL:https://business.lynnwoodchamber.org/events/details/cunard-alaska-cruise-information-night-686
END:VEVENT

END:VCALENDAR
