BEGIN:VCALENDAR
VERSION:2.0
PRODID:-//ChamberMaster//Event Calendar 2.0//EN
METHOD:PUBLISH
X-PUBLISHED-TTL:P3D
REFRESH-INTERVAL:P3D
CALSCALE:GREGORIAN
BEGIN:VEVENT
DTSTART:20180329T000000Z
DTEND:20180329T023000Z
X-MICROSOFT-CDO-ALLDAYEVENT:FALSE
SUMMARY:Crossroad Sign Ribbon Cutting and Open House
DESCRIPTION:Join us for a Ribbon Cutting at Crossroad Sign! Snohomish County Council Member Terry Ryan will be cutting the ribbon.  Sponsored by the Economic Alliance Snohomish County\, Mill Creek Business Association and the Lynnwood Chamber of Commerce.
X-ALT-DESC;FMTTYPE=text/html:Join us for a Ribbon Cutting at Crossroad Sign! Snohomish County Council Member Terry Ryan will be cutting the ribbon.&nbsp\; Sponsored by the Economic Alliance Snohomish County\, Mill Creek Business Association and the Lynnwood Chamber of Commerce.
LOCATION:Crossroad Sign 16406 7th Pl W Lynnwood\, WA 98037
UID:e.3041.203
SEQUENCE:3
DTSTAMP:20260423T110516Z
URL:https://business.lynnwoodchamber.org/events/details/crossroad-sign-ribbon-cutting-and-open-house-203
END:VEVENT

END:VCALENDAR
