BEGIN:VCALENDAR
VERSION:2.0
PRODID:-//ChamberMaster//Event Calendar 2.0//EN
METHOD:PUBLISH
X-PUBLISHED-TTL:P3D
REFRESH-INTERVAL:P3D
CALSCALE:GREGORIAN
BEGIN:VEVENT
DTSTART:20181002T180000Z
DTEND:20181002T190000Z
X-MICROSOFT-CDO-ALLDAYEVENT:FALSE
SUMMARY:Coffee with the Chamber
DESCRIPTION:Marketing communications. How much is enough? How much is too much? This month we will be discussing the best practices for effective marketing communication. Bring your ideas and prepare to collect more!\n\nSponsored by Inspirus Credit Union
X-ALT-DESC;FMTTYPE=text/html:Marketing communications. How much is enough? How much is too much? This month we will be discussing the best practices for effective marketing communication. Bring your ideas and prepare to collect more!<br />\nSponsored by Inspirus Credit Union
LOCATION:Lynnwood Chamber Office 3815 196th St. SW\, Suite 136 (next to Convention Center) Lynnwood\, WA 98036
UID:e.3041.673
SEQUENCE:3
DTSTAMP:20260423T011557Z
URL:https://business.lynnwoodchamber.org/events/details/coffee-with-the-chamber-673
END:VEVENT

END:VCALENDAR
