BEGIN:VCALENDAR
VERSION:2.0
PRODID:-//ChamberMaster//Event Calendar 2.0//EN
METHOD:PUBLISH
X-PUBLISHED-TTL:P3D
REFRESH-INTERVAL:P3D
CALSCALE:GREGORIAN
BEGIN:VEVENT
DTSTART:20180807T180000Z
DTEND:20180807T190000Z
X-MICROSOFT-CDO-ALLDAYEVENT:FALSE
SUMMARY:Coffee with the Chamber
DESCRIPTION:"A rising tide lifts all boats".... Share ideas on supporting each other for mutual business success. Meet others that share your goal. Should be an inspiring gathering!
X-ALT-DESC;FMTTYPE=text/html:<em>&quot\;A rising tide lifts all boats&quot\;.</em>... Share ideas on supporting each other for mutual business success. Meet others that share your goal. Should be an inspiring gathering!
LOCATION:Lynnwood Chamber Office 3815 196th St. SW\, Suite 136 (next to Convention Center) Lynnwood\, WA 98036
UID:e.3041.402
SEQUENCE:3
DTSTAMP:20260423T040706Z
URL:https://business.lynnwoodchamber.org/events/details/coffee-with-the-chamber-402
END:VEVENT

END:VCALENDAR
