BEGIN:VCALENDAR
VERSION:2.0
PRODID:-//ChamberMaster//Event Calendar 2.0//EN
METHOD:PUBLISH
X-PUBLISHED-TTL:P3D
REFRESH-INTERVAL:P3D
CALSCALE:GREGORIAN
BEGIN:VEVENT
DTSTART:20180710T180000Z
DTEND:20180710T190000Z
X-MICROSOFT-CDO-ALLDAYEVENT:FALSE
SUMMARY:Coffee with the Chamber
DESCRIPTION:
X-ALT-DESC;FMTTYPE=text/html:
LOCATION:Lynnwood Chamber Office 3815 196th St. SW\, Suite 136 (next to Convention Center) Lynnwood\, WA 98036
UID:e.3041.385
SEQUENCE:3
DTSTAMP:20260423T052750Z
URL:https://business.lynnwoodchamber.org/events/details/coffee-with-the-chamber-385
END:VEVENT

END:VCALENDAR
