BEGIN:VCALENDAR
VERSION:2.0
PRODID:-//ChamberMaster//Event Calendar 2.0//EN
METHOD:PUBLISH
X-PUBLISHED-TTL:P3D
REFRESH-INTERVAL:P3D
CALSCALE:GREGORIAN
BEGIN:VEVENT
DTSTART:20190402T180000Z
DTEND:20190402T190000Z
X-MICROSOFT-CDO-ALLDAYEVENT:FALSE
SUMMARY:Coffee with the Chamber
DESCRIPTION:Interactive\, peer-led gathering discussing topics that affect our businesses. Sponsored by Inspirus Credit Union
X-ALT-DESC;FMTTYPE=text/html:Interactive\, peer-led gathering discussing topics that affect our businesses.&nbsp\;Sponsored by Inspirus Credit Union
LOCATION:Lynnwood Chamber Office 3815 196th St. SW\, Suite 136 (next to the Convention Center) Lynnwood\, WA 98036
UID:e.3041.780
SEQUENCE:3
DTSTAMP:20260422T181500Z
URL:https://business.lynnwoodchamber.org/events/details/coffee-with-the-chamber-04-02-2019-780
END:VEVENT

END:VCALENDAR
