BEGIN:VCALENDAR
VERSION:2.0
PRODID:-//ChamberMaster//Event Calendar 2.0//EN
METHOD:PUBLISH
X-PUBLISHED-TTL:P3D
REFRESH-INTERVAL:P3D
CALSCALE:GREGORIAN
BEGIN:VEVENT
DTSTART:20191017T143000Z
DTEND:20191017T160000Z
X-MICROSOFT-CDO-ALLDAYEVENT:FALSE
SUMMARY:Clothes For Kids - Transforming Lives Breakfast
DESCRIPTION:Just two weeks until our 10th Annual Transforming Lives Breakfast! Join Clothes For Kids and emcee Jen Mueller at the Lynnwood Convention Center on Thursday\, Oct. 17th (from 7:30 to 9:00 a.m.) and learn more about how you can support low-income students in Snohomish County. Breakfast will be buffet-style and there is no charge to attend. A donation will be requested during the event. Click here to reserve your tickets today! Get tickets online at: https://www.brownpapertickets.com/event/4295692
X-ALT-DESC;FMTTYPE=text/html:Just two weeks until our 10th Annual Transforming Lives Breakfast! Join Clothes For Kids and emcee Jen Mueller at the Lynnwood Convention Center on Thursday\, Oct. 17th (from 7:30 to 9:00 a.m.) and learn more about how you can support low-income students in Snohomish County. Breakfast will be buffet-style and there is no charge to attend. A donation will be requested during the event. Click here to reserve your tickets today! Get tickets online at: https://www.brownpapertickets.com/event/4295692
LOCATION:Lynnwood Convention Center 3711 196th Street S.W. Lynnwood\, Washington 98036
UID:e.3041.893
SEQUENCE:3
DTSTAMP:20260422T091838Z
URL:https://business.lynnwoodchamber.org/events/details/clothes-for-kids-transforming-lives-breakfast-893
END:VEVENT

END:VCALENDAR
