BEGIN:VCALENDAR
VERSION:2.0
PRODID:-//ChamberMaster//Event Calendar 2.0//EN
METHOD:PUBLISH
X-PUBLISHED-TTL:P3D
REFRESH-INTERVAL:P3D
CALSCALE:GREGORIAN
BEGIN:VEVENT
DTSTART:20191224T010000Z
DTEND:20191224T063000Z
X-MICROSOFT-CDO-ALLDAYEVENT:FALSE
SUMMARY:Christmas Ship Parade
DESCRIPTION:Each year\, Argosy Harbor Tours Cruises dresses up their main tour boat\, The Spirit of Seattle with Christmas lights and a live choir that sings carols to everyone around the vessel. During the trip many other boats\, also adorned in Christmas lights and holiday decorations\, join the parade and sing along with the choir and watch the bonfire festivities on shore. Travel to Lake Union - through the Ballard Locks - for the Grand Finale! We've chosen dates that are the most popular\, so that you are sure to get a good show. On these nights we board our boat in Edmonds and along the way savor holiday desserts and beverages while enjoying Christmas carols and great company. At each destination we join the Parade soaking up the sights and sounds of the choir singing from the 'Christmas Ship\,' and on some trips even view special bonfires along the shore. Don't miss our OPEN HOUSE in Edmonds on December 11. On that night the Christmas Ship Parade comes to Edmonds\, and we host a free night of revelry on the MV Saratoga at the Port of Edmonds.
X-ALT-DESC;FMTTYPE=text/html:Each year\, Argosy Harbor Tours Cruises dresses up their main tour boat\, The Spirit of Seattle with Christmas lights and a live choir that sings carols to everyone around the vessel. During the trip many other boats\, also adorned in Christmas lights and holiday decorations\, join the parade and sing along with the choir and watch the bonfire festivities on shore. Travel to Lake Union - through the Ballard Locks - for the Grand Finale! We&rsquo\;ve chosen dates that are the most popular\, so that you are sure to get a good show. On these nights we board our boat in Edmonds and along the way savor holiday desserts and beverages while enjoying Christmas carols and great company. At each destination we join the Parade soaking up the sights and sounds of the choir singing from the &lsquo\;Christmas Ship\,&rsquo\; and on some trips even view special bonfires along the shore. Don&rsquo\;t miss our OPEN HOUSE in Edmonds on December 11. On that night the Christmas Ship Parade comes to Edmonds\, and we host a free night of revelry on the MV Saratoga at the Port of Edmonds.
LOCATION:Departs from Puget Sound Express' Edmonds Marina location at J-Dock
UID:e.3041.903
SEQUENCE:3
DTSTAMP:20260422T074816Z
URL:https://business.lynnwoodchamber.org/events/details/christmas-ship-parade-12-23-2019-903
END:VEVENT

END:VCALENDAR
