BEGIN:VCALENDAR
VERSION:2.0
PRODID:-//ChamberMaster//Event Calendar 2.0//EN
METHOD:PUBLISH
X-PUBLISHED-TTL:P3D
REFRESH-INTERVAL:P3D
CALSCALE:GREGORIAN
BEGIN:VEVENT
DTSTART:20181004T230000Z
DTEND:20181005T010000Z
X-MICROSOFT-CDO-ALLDAYEVENT:FALSE
SUMMARY:Chef Dane Catering and the Here and There Food Truck Open House and Ribbon Cutting
DESCRIPTION:Chef Dane Catering and the Here and There food truck welcome you to their catering open house and food truck ribbon cutting. You are invited to enjoy happy hour refreshments from both. \n\n\n\nChef Dane Catering is known for creating artisan built events designed to suit your needs whether large or small\, casual or gourmet.\n\n\n\nHere and There brings a variety of flavors to Edmonds and Lynnwood with regular locations as well as local private events and festivals.
X-ALT-DESC;FMTTYPE=text/html:Chef Dane Catering and the Here and There food truck welcome you to their catering open house and food truck ribbon cutting. You are invited to enjoy happy hour refreshments from both.&nbsp\;<br />\n<br />\nChef Dane Catering is known for creating artisan built events designed to suit your needs whether large or small\, casual or gourmet.<br />\n<br />\nHere and There brings a variety of flavors to Edmonds and Lynnwood with regular locations as well as local private events and festivals.<br />\n&nbsp\;
LOCATION:Chef Dane Catering 19505 44th Ave. W.\, Suite W\, Lynnwood
UID:e.3041.677
SEQUENCE:3
DTSTAMP:20260423T012150Z
URL:https://business.lynnwoodchamber.org/events/details/chef-dane-catering-and-the-here-and-there-food-truck-open-house-and-ribbon-cutting-677
END:VEVENT

END:VCALENDAR
