BEGIN:VCALENDAR
VERSION:2.0
PRODID:-//ChamberMaster//Event Calendar 2.0//EN
METHOD:PUBLISH
X-PUBLISHED-TTL:P3D
REFRESH-INTERVAL:P3D
CALSCALE:GREGORIAN
BEGIN:VEVENT
DTSTART:20220127T160000Z
DTEND:20220127T170000Z
X-MICROSOFT-CDO-ALLDAYEVENT:FALSE
SUMMARY:Chamber Breakfast with the Edmonds School District
DESCRIPTION:Join us as we make new connections\, build relationships and get to know our community. This month we will be learning about the upcoming education levy for Edmonds School District. See you soon!
X-ALT-DESC;FMTTYPE=text/html:Join us as we make new connections\, build relationships and get to know our community. This month we will be learning about the upcoming education levy for Edmonds School District. See you soon!
LOCATION:It's Virtual!
UID:e.3041.1000
SEQUENCE:3
DTSTAMP:20260420T195019Z
URL:https://business.lynnwoodchamber.org/events/details/chamber-breakfast-with-the-edmonds-school-district-1000
END:VEVENT

END:VCALENDAR
