BEGIN:VCALENDAR
VERSION:2.0
PRODID:-//ChamberMaster//Event Calendar 2.0//EN
METHOD:PUBLISH
X-PUBLISHED-TTL:P3D
REFRESH-INTERVAL:P3D
CALSCALE:GREGORIAN
BEGIN:VEVENT
DTSTART:20181115T000000Z
DTEND:20181115T030000Z
X-MICROSOFT-CDO-ALLDAYEVENT:FALSE
SUMMARY:Celebrate with James Russell\, PLLC
DESCRIPTION:Come celebrate with James Russell\, PLLC in the new office space. We would like to thank you for your business\, your trust and your confidence.\n\nRefreshments provided by Chef Dane Catering.
X-ALT-DESC;FMTTYPE=text/html:Come celebrate with James Russell\, PLLC in the new office space. We would like to thank you for your business\, your trust and your confidence.<br />\nRefreshments provided by <a href="http://www.chefdane.com">Chef Dane Catering</a>.
LOCATION:4211 Alderwood Mall Blvd.\, Suite 205 Lynnwood
UID:e.3041.687
SEQUENCE:3
DTSTAMP:20260422T235020Z
URL:https://business.lynnwoodchamber.org/events/details/celebrate-with-james-russell-pllc-687
END:VEVENT

END:VCALENDAR
