BEGIN:VCALENDAR
VERSION:2.0
PRODID:-//ChamberMaster//Event Calendar 2.0//EN
METHOD:PUBLISH
X-PUBLISHED-TTL:P3D
REFRESH-INTERVAL:P3D
CALSCALE:GREGORIAN
BEGIN:VEVENT
DTSTART:20210923T150000Z
DTEND:20210923T160000Z
X-MICROSOFT-CDO-ALLDAYEVENT:FALSE
SUMMARY:BYOBreakfast with Cascade Symphony
DESCRIPTION:Join us as we welcome the Cascade Symphony! Networking opportunities as well!
X-ALT-DESC;FMTTYPE=text/html:<br />\nJoin us as we welcome the Cascade Symphony! Networking opportunities as well!<br />\n<br />\n&nbsp\;
LOCATION:It's Virtual!
UID:e.3041.989
SEQUENCE:3
DTSTAMP:20260421T021404Z
URL:https://business.lynnwoodchamber.org/events/details/byobreakfast-with-cascade-symphony-989
END:VEVENT

END:VCALENDAR
