BEGIN:VCALENDAR
VERSION:2.0
PRODID:-//ChamberMaster//Event Calendar 2.0//EN
METHOD:PUBLISH
X-PUBLISHED-TTL:P3D
REFRESH-INTERVAL:P3D
CALSCALE:GREGORIAN
BEGIN:VEVENT
DTSTART:20200528T150000Z
DTEND:20200528T160000Z
X-MICROSOFT-CDO-ALLDAYEVENT:FALSE
SUMMARY:BYOBreakfast: Covid-19\, the Economy and Thinking Ahead
DESCRIPTION:Join us to hear from James McCafferty\, Director of Western Washington University's Center for Economic and Business Research. James will be bringing us information on looking ahead to the economy that has been so affected by the Covid-19 situation. Get valuable information and recommendations for your own recovery. Networking included!
X-ALT-DESC;FMTTYPE=text/html:<span style="font-size:14px\;">Join us to hear from James McCafferty\, Director of&nbsp\;Western Washington University&#39\;s Center for Economic and Business Research. James will be bringing us information on looking ahead to the economy that has been so affected by the Covid-19 situation. Get valuable information and recommendations for your own recovery. Networking included!</span><br />\n<br />\n&nbsp\;
LOCATION:It's virtual!
UID:e.3041.874
SEQUENCE:3
DTSTAMP:20260422T001922Z
URL:https://business.lynnwoodchamber.org/events/details/byobreakfast-covid-19-the-economy-and-thinking-ahead-874
END:VEVENT

END:VCALENDAR
