BEGIN:VCALENDAR
VERSION:2.0
PRODID:-//ChamberMaster//Event Calendar 2.0//EN
METHOD:PUBLISH
X-PUBLISHED-TTL:P3D
REFRESH-INTERVAL:P3D
CALSCALE:GREGORIAN
BEGIN:VEVENT
DTSTART:20201022T150000Z
DTEND:20201022T160000Z
X-MICROSOFT-CDO-ALLDAYEVENT:FALSE
SUMMARY:BYOBreakfast
DESCRIPTION:Join us as Nancy Mitrano\, owner of Impact Physical Therapy\, presents "Ergonomics in the Workplace." This could be your regular workplace\, or perhaps something you have created at home. Either way\, learn how to make it work for you!\n\n\n\nYou will get a chance to introduce yourself to new people as well!
X-ALT-DESC;FMTTYPE=text/html:Join us as Nancy Mitrano\, owner of Impact Physical Therapy\, presents &quot\;Ergonomics in the Workplace.&quot\; This could be your regular workplace\, or perhaps something you have created at home. Either way\, learn how to make it work for you!<br />\n<br />\nYou will get a chance to introduce yourself to new people as well!<br />\n<br />\n&nbsp\;
LOCATION:It's Virtual!
UID:e.3041.879
SEQUENCE:3
DTSTAMP:20260421T180851Z
URL:https://business.lynnwoodchamber.org/events/details/byobreakfast-10-22-2020-879
END:VEVENT

END:VCALENDAR
