BEGIN:VCALENDAR
VERSION:2.0
PRODID:-//ChamberMaster//Event Calendar 2.0//EN
METHOD:PUBLISH
X-PUBLISHED-TTL:P3D
REFRESH-INTERVAL:P3D
CALSCALE:GREGORIAN
BEGIN:VEVENT
DTSTART:20191121T013000Z
DTEND:20191121T033000Z
X-MICROSOFT-CDO-ALLDAYEVENT:FALSE
SUMMARY:Business Showcase
DESCRIPTION:To celebrate its one year anniversary\, Coastal Community Bank - Edmonds Branch is hosting an inaugural Business Showcase.\n\n\n\nShop local and get to know your business neighbors.\n\n\n\nVisit with vendors and complete the Passport to be entered into a drawing to win a beautiful decorative glass pumpkin from glass artist\, Dayne Lopez.\n\n\n\nWe hope you can make it!
X-ALT-DESC;FMTTYPE=text/html:To celebrate its one year anniversary\, Coastal Community Bank - Edmonds Branch is hosting an inaugural Business Showcase.<br />\n<br />\nShop local and get to know your business neighbors.<br />\n<br />\nVisit with vendors and complete the Passport to be entered into a drawing to win a beautiful decorative glass pumpkin from glass artist\, Dayne Lopez.<br />\n<br />\nWe hope you can make it!
LOCATION:Coastal Community Bank 123 Third Avenue South Edmonds\, WA 98020
UID:e.3041.898
SEQUENCE:3
DTSTAMP:20260422T074646Z
URL:https://business.lynnwoodchamber.org/events/details/business-showcase-898
END:VEVENT

END:VCALENDAR
