BEGIN:VCALENDAR
VERSION:2.0
PRODID:-//ChamberMaster//Event Calendar 2.0//EN
METHOD:PUBLISH
X-PUBLISHED-TTL:P3D
REFRESH-INTERVAL:P3D
CALSCALE:GREGORIAN
BEGIN:VEVENT
DTSTART:20200123T153000Z
DTEND:20200123T170000Z
X-MICROSOFT-CDO-ALLDAYEVENT:FALSE
SUMMARY:Breakfast with the Lynnwood Chamber
DESCRIPTION:Aaron Olsen\n\nHabitat for Humanity of Snohomish County\n\n\n\nGreat networking\, a tasty breakfast and an informative presentation. Bring plenty of business cards and prepare to meet some new people!
X-ALT-DESC;FMTTYPE=text/html:<span style="font-size: 14px\;"><span style="font-family: arial\;">Aaron Olsen<br />\nHabitat for Humanity of Snohomish County<br />\n<br />\nGreat networking\, a tasty breakfast and an informative presentation. Bring plenty of business cards and prepare to meet some new people!</span></span><br />\n<br />\n<br />\n&nbsp\;
LOCATION:Gateway Hall\, Room 352 Edmonds Community College 6600 196th St. SW Lynnwood\, WA 98036
UID:e.3041.870
SEQUENCE:3
DTSTAMP:20260422T054010Z
URL:https://business.lynnwoodchamber.org/events/details/breakfast-with-the-lynnwood-chamber-870
END:VEVENT

END:VCALENDAR
