BEGIN:VCALENDAR
VERSION:2.0
PRODID:-//ChamberMaster//Event Calendar 2.0//EN
METHOD:PUBLISH
X-PUBLISHED-TTL:P3D
REFRESH-INTERVAL:P3D
CALSCALE:GREGORIAN
BEGIN:VEVENT
DTSTART:20190328T143000Z
DTEND:20190328T160000Z
X-MICROSOFT-CDO-ALLDAYEVENT:FALSE
SUMMARY:Breakfast with the Lynnwood Chamber
DESCRIPTION:Kathy Stewart RN\,BSN VP of Nursing for Aegis Senior Living and author of "Mom's Losing Her Memory\, I'm Losing My Mind!" will present:\n\n"Recognizing the signs that your loved one needs help"\n\nA few lucky winners will take home a copy of her book!\n\nGreat networking\, a tasty breakfast and an informative presentation. Bring plenty of business cards and prepare to meet some new people!\n\nSponsored by Chef Dane Catering
X-ALT-DESC;FMTTYPE=text/html:<strong><span style="font-family:arial\;"><span style="color:#000000\;"><span style="font-size:11pt\;"><span style="font-size:14px\;">Kathy Stewart RN\,BSN VP of Nursing for Aegis Senior Living and&nbsp\;</span></span></span></span><span style="color: rgb(0\, 0\, 0)\; font-family: arial\;">author of &ldquo\;Mom&#39\;s Losing Her Memory\, I&rsquo\;m Losing My Mind!&quot\; will present:</span><br />\n<span style="font-family:arial\;"><span style="color:#000000\;"><em>&quot\;Recognizing the signs that your loved one needs help&quot\;</em><br />\nA few lucky winners will take home a copy of her book!</span></span></strong><br />\n<span style="font-size: 14px\;"><span style="font-family: arial\;">Great networking\, a tasty breakfast and an informative presentation. Bring plenty of business cards and prepare to meet some new people!<br />\nSponsored by<span style="color: rgb(0\, 0\, 0)\;">&nbsp\;</span></span></span><b><a href="http://www.chefdane.com"><span style="color: rgb(0\, 0\, 0)\;"><span style="font-size: 14px\;"><span style="font-family: arial\;">Chef Dane Catering</span></span></span></a></b><br />\n<br />\n&nbsp\;
LOCATION:Gateway Hall Board Room - Edmonds Community College 6600 196th St. SW Lynnwood\, WA 98036
UID:e.3041.789
SEQUENCE:3
DTSTAMP:20260422T181537Z
URL:https://business.lynnwoodchamber.org/events/details/breakfast-with-the-lynnwood-chamber-789
END:VEVENT

END:VCALENDAR
