BEGIN:VCALENDAR
VERSION:2.0
PRODID:-//ChamberMaster//Event Calendar 2.0//EN
METHOD:PUBLISH
X-PUBLISHED-TTL:P3D
REFRESH-INTERVAL:P3D
CALSCALE:GREGORIAN
BEGIN:VEVENT
DTSTART:20190131T153000Z
DTEND:20190131T170000Z
X-MICROSOFT-CDO-ALLDAYEVENT:FALSE
SUMMARY:Breakfast with the Lynnwood Chamber
DESCRIPTION:Dr. Kris McDuffy\, Superintendent\, Edmonds School District\n\nComplimentary continental breakfast courtesy of Chef Dane Catering.\n\nBring a door prize to promote your business!
X-ALT-DESC;FMTTYPE=text/html:Dr. Kris McDuffy\, Superintendent\, Edmonds School District<br />\nComplimentary continental breakfast courtesy of <strong><a href="http://chefdane.com"><span style="color:#000000\;">Chef Dane Catering</span></a></strong>.<br />\nBring a door prize to promote your business!
LOCATION:Gateway Hall Board Room - Edmonds Community College 6600 196th St. SW Lynnwood\, WA 98036
UID:e.3041.694
SEQUENCE:3
DTSTAMP:20260422T222444Z
URL:https://business.lynnwoodchamber.org/events/details/breakfast-with-the-lynnwood-chamber-694
END:VEVENT

END:VCALENDAR
