BEGIN:VCALENDAR
VERSION:2.0
PRODID:-//ChamberMaster//Event Calendar 2.0//EN
METHOD:PUBLISH
X-PUBLISHED-TTL:P3D
REFRESH-INTERVAL:P3D
CALSCALE:GREGORIAN
BEGIN:VEVENT
DTSTART:20190523T143000Z
DTEND:20190523T160000Z
X-MICROSOFT-CDO-ALLDAYEVENT:FALSE
SUMMARY:Breakfast with the Lynnwood Chamber
DESCRIPTION:Sam Samano and Brent Arbes -  WorkSource Snohomish County\n\nGreat networking\, a tasty breakfast and an informative presentation. Bring plenty of business cards and prepare to meet some new people!\n\nSponsored by Chef Dane Catering
X-ALT-DESC;FMTTYPE=text/html:<font color="#000000" face="arial"><span style="font-size: 14px\;"><b>Sam Samano and Brent Arbes -&nbsp\; WorkSource Snohomish County</b></span></font><br />\n<span style="font-size: 14px\;"><span style="font-family: arial\;">Great networking\, a tasty breakfast and an informative presentation. Bring plenty of business cards and prepare to meet some new people!<br />\nSponsored by<span style="color: rgb(0\, 0\, 0)\;">&nbsp\;</span></span></span><b><a href="http://www.chefdane.com"><span style="color: rgb(0\, 0\, 0)\;"><span style="font-size: 14px\;"><span style="font-family: arial\;">Chef Dane Catering</span></span></span></a></b><br />\n<br />\n&nbsp\;
LOCATION:Gateway Hall Board Room - Edmonds Community College 6600 196th St. SW Lynnwood\, WA 98036
UID:e.3041.803
SEQUENCE:3
DTSTAMP:20260422T154743Z
URL:https://business.lynnwoodchamber.org/events/details/breakfast-with-the-lynnwood-chamber-05-23-2019-803
END:VEVENT

END:VCALENDAR
