BEGIN:VCALENDAR
VERSION:2.0
PRODID:-//ChamberMaster//Event Calendar 2.0//EN
METHOD:PUBLISH
X-PUBLISHED-TTL:P3D
REFRESH-INTERVAL:P3D
CALSCALE:GREGORIAN
BEGIN:VEVENT
DTSTART:20180928T000000Z
DTEND:20180928T020000Z
X-MICROSOFT-CDO-ALLDAYEVENT:FALSE
SUMMARY:Blues\, Brats\, and Brews
DESCRIPTION:Come network with local businesses and enjoy music\, traditional bratwursts and delicious brews! No-host bar\, this event is 21+ Visit with local businesses at Exhibitor tables and enter to win door prizes! Deadline for Exhibitors to register is September 13th. Exhibitor tables include a 6' table and 2 tickets to the event\, please contact NicoleA@economicalliancesc.org to get your team registered after purchasing your table at https://www.economicalliancesc.org/events/blues-brats-brews/. Non-profits please use the coupon code "2018Blues" when registering your exhibitor table.
X-ALT-DESC;FMTTYPE=text/html:Come network with local businesses and enjoy music\, traditional bratwursts and delicious brews! No-host bar\, this event is 21+ Visit with local businesses at Exhibitor tables and enter to win door prizes! Deadline for Exhibitors to register is September 13th. Exhibitor tables include a 6&#39\; table and 2 tickets to the event\, please contact NicoleA@economicalliancesc.org to get your team registered after purchasing your table at https://www.economicalliancesc.org/events/blues-brats-brews/. Non-profits please use the coupon code &ldquo\;2018Blues&rdquo\; when registering your exhibitor table.
LOCATION:Edmonds Yacht Club 326 Admiral Way\, Edmonds
UID:e.3041.399
SEQUENCE:3
DTSTAMP:20260423T024953Z
URL:https://business.lynnwoodchamber.org/events/details/blues-brats-and-brews-09-27-2018-399
END:VEVENT

END:VCALENDAR
