BEGIN:VCALENDAR
VERSION:2.0
PRODID:-//ChamberMaster//Event Calendar 2.0//EN
METHOD:PUBLISH
X-PUBLISHED-TTL:P3D
REFRESH-INTERVAL:P3D
CALSCALE:GREGORIAN
BEGIN:VEVENT
DTSTART:20190202T170000Z
DTEND:20190202T180000Z
X-MICROSOFT-CDO-ALLDAYEVENT:FALSE
SUMMARY:Become a Vacation Consultant with Expedia CruiseShip Centers
DESCRIPTION:Become a Vacation Consultant with Expedia CruiseShipCenters\n\nNow is the time to turn your love for travel into an exciting new business navigating spectacular vacation experiences! If you're looking for a fun\, flexible opportunity and to be part of an incredible team\, a career as an Expedia  CruiseShipCenters  Vacation Consultant could be perfect for you. When you join the Expedia family and our network of 6\,000+ Vacation Consultants\, you'll enjoy ongoing support from a Franchise Owner in your area and the freedom that comes with building your own travel business.\n\nAs an Independent Contractor with Expedia CruiseShipCenters\, you can enjoy:\n\n\n	Flexible hours\n	Comprehensive and ongoing training (no previous experience required)\n	Reduced travel costs\n	Top tier commissions\n	Instant credibility and recognition from the #1 brand in travel\n	Access to award-winning marketing tools to grow your business\n	Fun work environment\n\n\nJoin us at our career information session where you will receive a live presentation on our Vacation Consultant opportunity and meet your local Franchise Owner. This is an information session only. Individuals interested in becoming a consultant may be invited for a follow up interview.
X-ALT-DESC;FMTTYPE=text/html:<h3 class="heading" style="margin: 0px\; padding: 0px\; color: rgb(30\, 10\, 60)\; font-size: 17px\; line-height: 21px\; font-family: &quot\;Neue Plak&quot\;\, -apple-system\, BlinkMacSystemFont\, Roboto\, &quot\;Helvetica Neue&quot\;\, Helvetica\, Tahoma\, Arial\, sans-serif\; letter-spacing: 0.5px\;">Become a Vacation Consultant with Expedia CruiseShipCenters</h3>\n\n<p style="margin: 0px\; padding: 10px 0px 0px\; color: rgb(111\, 114\, 135)\; font-family: &quot\;Neue Plak&quot\;\, -apple-system\, BlinkMacSystemFont\, Roboto\, &quot\;Helvetica Neue&quot\;\, Helvetica\, Tahoma\, Arial\, sans-serif\; font-size: 15px\; letter-spacing: 0.5px\;"><span style="font-size:12px\;">Now is the time to turn your love for travel into an exciting new business navigating spectacular vacation experiences! If you&rsquo\;re looking for a fun\, flexible opportunity and to be part of an incredible team\, a career as an Expedia<span style="padding-top: 0px\;">&reg\;</span>&nbsp\;CruiseShipCenters&reg\;&nbsp\;Vacation Consultant could be perfect for you. When you join the Expedia family and our network of 6\,000+ Vacation Consultants\, you&rsquo\;ll enjoy ongoing support from a Franchise Owner in your area and the freedom that comes with building your own travel business.</span></p>\n\n<p style="margin: 0px\; padding: 10px 0px 0px\; color: rgb(111\, 114\, 135)\; font-family: &quot\;Neue Plak&quot\;\, -apple-system\, BlinkMacSystemFont\, Roboto\, &quot\;Helvetica Neue&quot\;\, Helvetica\, Tahoma\, Arial\, sans-serif\; font-size: 15px\; letter-spacing: 0.5px\;"><span style="font-size:12px\;">As an Independent Contractor with Expedia CruiseShipCenters\, you can enjoy:</span></p>\n\n<ul style="margin: 0px\; padding-top: 10px\; padding-right: 0px\; padding-left: 2em\; list-style-position: initial\; list-style-image: initial\; color: rgb(111\, 114\, 135)\; font-family: &quot\;Neue Plak&quot\;\, -apple-system\, BlinkMacSystemFont\, Roboto\, &quot\;Helvetica Neue&quot\;\, Helvetica\, Tahoma\, Arial\, sans-serif\; font-size: 15px\; letter-spacing: 0.5px\;">\n	<li style="margin: 0px\; padding: 0px\;"><span style="font-size:12px\;">Flexible hours</span></li>\n	<li style="margin: 0px\; padding: 5px 0px 0px\;"><span style="font-size:12px\;">Comprehensive and ongoing training (no previous experience required)</span></li>\n	<li style="margin: 0px\; padding: 5px 0px 0px\;"><span style="font-size:12px\;">Reduced travel costs</span></li>\n	<li style="margin: 0px\; padding: 5px 0px 0px\;"><span style="font-size:12px\;">Top tier commissions</span></li>\n	<li style="margin: 0px\; padding: 5px 0px 0px\;"><span style="font-size:12px\;">Instant credibility and recognition from the #1 brand in travel</span></li>\n	<li style="margin: 0px\; padding: 5px 0px 0px\;"><span style="font-size:12px\;">Access to award-winning marketing tools to grow your business</span></li>\n	<li style="margin: 0px\; padding: 5px 0px 0px\;"><span style="font-size:12px\;">Fun work environment</span></li>\n</ul>\n\n<p style="margin: 0px\; padding: 10px 0px 0px\; color: rgb(111\, 114\, 135)\; font-family: &quot\;Neue Plak&quot\;\, -apple-system\, BlinkMacSystemFont\, Roboto\, &quot\;Helvetica Neue&quot\;\, Helvetica\, Tahoma\, Arial\, sans-serif\; font-size: 15px\; letter-spacing: 0.5px\;"><span style="font-size:12px\;">Join us at our career information session where you will receive a live presentation on our Vacation Consultant opportunity and meet your local Franchise Owner. This is an information session only. Individuals interested in becoming a consultant may be invited for a follow up interview.</span></p>\n\n<p style="margin: 0px\; padding: 10px 0px 0px\; color: rgb(111\, 114\, 135)\; font-family: &quot\;Neue Plak&quot\;\, -apple-system\, BlinkMacSystemFont\, Roboto\, &quot\;Helvetica Neue&quot\;\, Helvetica\, Tahoma\, Arial\, sans-serif\; font-size: 15px\; letter-spacing: 0.5px\;">&nbsp\;</p>\n
LOCATION:15415 Main St Mill Creek\, WA 98012
UID:e.3041.701
SEQUENCE:3
DTSTAMP:20260422T194539Z
URL:https://business.lynnwoodchamber.org/events/details/become-a-vacation-consultant-with-expedia-cruiseship-centers-701
END:VEVENT

END:VCALENDAR
