BEGIN:VCALENDAR
VERSION:2.0
PRODID:-//ChamberMaster//Event Calendar 2.0//EN
METHOD:PUBLISH
X-PUBLISHED-TTL:P3D
REFRESH-INTERVAL:P3D
CALSCALE:GREGORIAN
BEGIN:VEVENT
DTSTART:20190221T020000Z
DTEND:20190221T040000Z
X-MICROSOFT-CDO-ALLDAYEVENT:FALSE
SUMMARY:Artist's Reception
DESCRIPTION:Join us for this free event and meet the artists of our latest exhibit\, "Animalia\," all while enjoying complimentary house-made appetizers and a no-host bar. This exhibit runs from January through June 2019 at the Lynnwood Convention Center. For more information visit www.lynnwoodcc.com.
X-ALT-DESC;FMTTYPE=text/html:Join us for this free event and meet the artists of our latest exhibit\, &quot\;Animalia\,&quot\; all while enjoying complimentary house-made appetizers and a no-host bar. This exhibit runs from January through June 2019 at the Lynnwood Convention Center. For more information visit www.lynnwoodcc.com.
LOCATION:Lynnwood Convention Center 3711 196th St. SW Lynnwood\, WA 98036
UID:e.3041.700
SEQUENCE:3
DTSTAMP:20260421T110729Z
URL:https://business.lynnwoodchamber.org/events/details/artist-s-reception-700
END:VEVENT

END:VCALENDAR
