BEGIN:VCALENDAR
VERSION:2.0
PRODID:-//ChamberMaster//Event Calendar 2.0//EN
METHOD:PUBLISH
X-PUBLISHED-TTL:P3D
REFRESH-INTERVAL:P3D
CALSCALE:GREGORIAN
BEGIN:VEVENT
DTSTART:20190713T190000Z
DTEND:20190713T230000Z
X-MICROSOFT-CDO-ALLDAYEVENT:FALSE
SUMMARY:Anytime Fitness Lynnwood VIP Event and Health Xpo
DESCRIPTION:Bring your family and friends\, experience group fitness\, win raffle prizes and Anytime Fitness swag!\n\nHEALTH & FITNESS EXPO: Group fitness class demos\, body composition analysis\, glucose level check and fitness evaluations\n\nRAFFLE PRIZES: 90 days macros coaching\, 12-month free membership\, vegan protein and recovery sups\,class pass for unlimited group training for 30 days\, PlayHappy Cafe drop-in care punch card\, Smoothies from PlayHappy Cafe\, heart monitors
X-ALT-DESC;FMTTYPE=text/html:<span style="font-size:12px\;"><span style="font-family:arial\;"><span style="font-size:14px\;"><span style="color: rgb(29\, 33\, 41)\; white-space: pre-wrap\;">Bring your family and friends\, experience group fitness\, win raffle prizes and Anytime Fitness swag!</span><br style="color: rgb(29\, 33\, 41)\; font-family: Helvetica\, Arial\, sans-serif\; font-size: 14px\; white-space: pre-wrap\;" />\n<span style="color: rgb(29\, 33\, 41)\; white-space: pre-wrap\;">HEALTH &amp\; FITNESS EXPO: </span><span style="color: rgb(29\, 33\, 41)\; white-space: pre-wrap\;">Group fitness class demos\, b</span><span style="color: rgb(29\, 33\, 41)\; white-space: pre-wrap\;">ody composition analysis\, g</span><span style="color: rgb(29\, 33\, 41)\; white-space: pre-wrap\;">lucose level check and f</span><span style="color: rgb(29\, 33\, 41)\; white-space: pre-wrap\;">itness evaluations</span><br style="color: rgb(29\, 33\, 41)\; font-family: Helvetica\, Arial\, sans-serif\; font-size: 14px\; white-space: pre-wrap\;" />\n<span style="color: rgb(29\, 33\, 41)\; white-space: pre-wrap\;">RAFFLE PRIZES: </span><span style="color: rgb(29\, 33\, 41)\; white-space: pre-wrap\;">90 days macros coaching\, </span><span style="color: rgb(29\, 33\, 41)\; white-space: pre-wrap\;">12-month free membership\, v</span><span style="color: rgb(29\, 33\, 41)\; white-space: pre-wrap\;">egan protein and recovery sups\,c</span><span style="color: rgb(29\, 33\, 41)\; white-space: pre-wrap\;">lass pass for unlimited group training for 30 days\, </span><span style="color: rgb(29\, 33\, 41)\; white-space: pre-wrap\;">PlayHappy Cafe drop-in care punch card\, </span><span style="color: rgb(29\, 33\, 41)\; white-space: pre-wrap\;">Smoothies from PlayHappy Cafe\, h</span><span style="color: rgb(29\, 33\, 41)\; white-space: pre-wrap\;">eart monitors</span></span></span></span><br style="color: rgb(29\, 33\, 41)\; font-family: Helvetica\, Arial\, sans-serif\; font-size: 14px\; white-space: pre-wrap\;" />\n&nbsp\;
LOCATION:4114 198th St. SW\, Suite 7 Lynnwood 98036
UID:e.3041.861
SEQUENCE:3
DTSTAMP:20260422T143528Z
URL:https://business.lynnwoodchamber.org/events/details/anytime-fitness-lynnwood-vip-event-and-health-xpo-861
END:VEVENT

END:VCALENDAR
