BEGIN:VCALENDAR
VERSION:2.0
PRODID:-//ChamberMaster//Event Calendar 2.0//EN
METHOD:PUBLISH
X-PUBLISHED-TTL:P3D
REFRESH-INTERVAL:P3D
CALSCALE:GREGORIAN
BEGIN:VEVENT
DTSTART:20190808T213000Z
DTEND:20190808T220000Z
X-MICROSOFT-CDO-ALLDAYEVENT:FALSE
SUMMARY:Anytime Fitness Lynnwood Ribbon Cutting
DESCRIPTION:Come celebrate Anytime Fitness Lynnwood!
X-ALT-DESC;FMTTYPE=text/html:<font color="#1d2129" face="arial"><span style="font-size: 14px\; white-space: pre-wrap\;">Come celebrate Anytime Fitness Lynnwood!</span></font>
LOCATION:4114 198th St. SW\, Suite 7 Lynnwood 98036
UID:e.3041.865
SEQUENCE:3
DTSTAMP:20260422T120803Z
URL:https://business.lynnwoodchamber.org/events/details/anytime-fitness-lynnwood-ribbon-cutting-865
END:VEVENT

END:VCALENDAR
