BEGIN:VCALENDAR
VERSION:2.0
PRODID:-//ChamberMaster//Event Calendar 2.0//EN
METHOD:PUBLISH
X-PUBLISHED-TTL:P3D
REFRESH-INTERVAL:P3D
CALSCALE:GREGORIAN
BEGIN:VEVENT
DTSTART;VALUE=DATE:20180512
DTEND;VALUE=DATE:20180513
TRANSP:TRANSPARENT
X-MICROSOFT-CDO-ALLDAYEVENT:TRUE
SUMMARY:Anchored - Presented by The Mill Creek Chorale
DESCRIPTION:A collection of Americana\, Gospel and Classical Sacred Music
X-ALT-DESC;FMTTYPE=text/html:A collection of Americana\, Gospel and Classical Sacred Music
LOCATION:Glacier Peak High School Performing Arts Center
UID:e.3041.213
SEQUENCE:3
DTSTAMP:20260423T081043Z
URL:https://business.lynnwoodchamber.org/events/details/anchored-presented-by-the-mill-creek-chorale-213
END:VEVENT

END:VCALENDAR
