BEGIN:VCALENDAR
VERSION:2.0
PRODID:-//ChamberMaster//Event Calendar 2.0//EN
METHOD:PUBLISH
X-PUBLISHED-TTL:P3D
REFRESH-INTERVAL:P3D
CALSCALE:GREGORIAN
BEGIN:VEVENT
DTSTART:20210407T160000Z
DTEND:20210407T170000Z
X-MICROSOFT-CDO-ALLDAYEVENT:FALSE
SUMMARY:Ambassador Meeting
DESCRIPTION:Join with a group of Lynnwood business people passionate about supporting the business community!
X-ALT-DESC;FMTTYPE=text/html:Join with a group of Lynnwood business people passionate about supporting the business community!
LOCATION:It's virtual!
UID:e.3041.969
SEQUENCE:3
DTSTAMP:20260421T102047Z
URL:https://business.lynnwoodchamber.org/events/details/ambassador-meeting-969
END:VEVENT

END:VCALENDAR
