BEGIN:VCALENDAR
VERSION:2.0
PRODID:-//ChamberMaster//Event Calendar 2.0//EN
METHOD:PUBLISH
X-PUBLISHED-TTL:P3D
REFRESH-INTERVAL:P3D
CALSCALE:GREGORIAN
BEGIN:VEVENT
DTSTART:20180720T210000Z
DTEND:20180720T230000Z
X-MICROSOFT-CDO-ALLDAYEVENT:FALSE
SUMMARY:Alderwood Boys and Girls Club Carnival
DESCRIPTION:Free Carnival to celebrate the 27th Birthday of the Alderwood Boys and Girls Club
X-ALT-DESC;FMTTYPE=text/html:Free Carnival to celebrate the 27th Birthday of the Alderwood Boys and Girls Club
LOCATION:19719 24th Ave W Lynnwood\, WA 98036
UID:e.3041.390
SEQUENCE:3
DTSTAMP:20260423T053242Z
URL:https://business.lynnwoodchamber.org/events/details/alderwood-boys-and-girls-club-carnival-390
END:VEVENT

END:VCALENDAR
