BEGIN:VCALENDAR
VERSION:2.0
PRODID:-//ChamberMaster//Event Calendar 2.0//EN
METHOD:PUBLISH
X-PUBLISHED-TTL:P3D
REFRESH-INTERVAL:P3D
CALSCALE:GREGORIAN
BEGIN:VEVENT
DTSTART:20190418T230000Z
DTEND:20190419T020000Z
X-MICROSOFT-CDO-ALLDAYEVENT:FALSE
SUMMARY:After Hours with the Lynnwood and Mill Creek Chambers
DESCRIPTION:Join the Lynnwood and Mill Creek Chambers for an After Hours!
X-ALT-DESC;FMTTYPE=text/html:Join the Lynnwood and Mill Creek Chambers for an After Hours!
LOCATION:Expedia CruiseShipCenters 15415 Main Street\, Suite 104 Mill Creek\, WA 98012
UID:e.3041.842
SEQUENCE:3
DTSTAMP:20260422T181725Z
URL:https://business.lynnwoodchamber.org/events/details/after-hours-with-the-lynnwood-and-mill-creek-chambers-842
END:VEVENT

END:VCALENDAR
