BEGIN:VCALENDAR
VERSION:2.0
PRODID:-//ChamberMaster//Event Calendar 2.0//EN
METHOD:PUBLISH
X-PUBLISHED-TTL:P3D
REFRESH-INTERVAL:P3D
CALSCALE:GREGORIAN
BEGIN:VEVENT
DTSTART:20200401T003000Z
DTEND:20200401T023000Z
X-MICROSOFT-CDO-ALLDAYEVENT:FALSE
SUMMARY:After Hours with the Edmonds and Lynnwood Chambers of Commerce
DESCRIPTION:Join the Lynnwood and Edmonds Chambers of Commerce for an After Hours event aboard the Saratoga!\n\n\n\nHosted appetizers and no host bar.\n\nSponsored by Puget Sound Express and Chef Dane Catering.
X-ALT-DESC;FMTTYPE=text/html:Join the Lynnwood and Edmonds Chambers of Commerce for an After Hours event aboard the Saratoga!<br />\n<br />\nHosted appetizers and no host bar.<br />\nSponsored by <a href="http://seattle.pugetsoundexpress.com"><span style="color:#000000\;">Puget Sound Express</span></a> and <a href="http://www.chefdane.com"><span style="color:#000000\;">Chef Dane Catering</span></a>.
LOCATION:459 Admiral Way Edmonds\, WA 98020
UID:e.3041.921
SEQUENCE:3
DTSTAMP:20260422T030350Z
URL:https://business.lynnwoodchamber.org/events/details/after-hours-with-the-edmonds-and-lynnwood-chambers-of-commerce-921
END:VEVENT

END:VCALENDAR
