BEGIN:VCALENDAR
VERSION:2.0
PRODID:-//ChamberMaster//Event Calendar 2.0//EN
METHOD:PUBLISH
X-PUBLISHED-TTL:P3D
REFRESH-INTERVAL:P3D
CALSCALE:GREGORIAN
BEGIN:VEVENT
DTSTART:20170720T000000Z
DTEND:20170720T020000Z
X-MICROSOFT-CDO-ALLDAYEVENT:FALSE
SUMMARY:After Hours Event - Check Out Miss HomeStreet Hydroplane!
DESCRIPTION:You're invited to join us for a Business After Hours event on July 19th from 5-7 pm! Check out the Miss HomeStreet Hydroplane and enjoy some refreshments!
X-ALT-DESC;FMTTYPE=text/html:You&#39\;re invited to join us for a Business After Hours event on July 19th from 5-7 pm! Check out the Miss HomeStreet Hydroplane and enjoy some refreshments!&nbsp\;<br />\n&nbsp\;
LOCATION:22001 66th Ave. West Mountlake Terrace\, WA 98043
UID:e.3041.12
SEQUENCE:3
DTSTAMP:20260425T125306Z
URL:https://business.lynnwoodchamber.org/events/details/after-hours-event-check-out-miss-homestreet-hydroplane-12
END:VEVENT

END:VCALENDAR
