BEGIN:VCALENDAR
VERSION:2.0
PRODID:-//ChamberMaster//Event Calendar 2.0//EN
METHOD:PUBLISH
X-PUBLISHED-TTL:P3D
REFRESH-INTERVAL:P3D
CALSCALE:GREGORIAN
BEGIN:VEVENT
DTSTART:20190112T160000Z
DTEND:20190112T223000Z
X-MICROSOFT-CDO-ALLDAYEVENT:FALSE
SUMMARY:AAA Cruise Show
DESCRIPTION:Explore the Exciting World of Cruising\n\nThe 2019 AAA Cruise Show is one of the largest gatherings of world-class travel providers in Washington. Come get the latest tips and trends from knowledgeable travel experts\, attend insightful presentations and take advantage of special savings. SPECIAL OFFERS:*\n\n Day-of-Show specials with a $10 per person deposit\n\n Receive up to $100 onboard spending credit\n\n Save 15% off all Travel Store gear\, accessories and luggage at the cruise show\n\n Earn 3% cash back when you book travel with the AAA Member Rewards Visa  card\n\nRSVP: Online or (425) 744-7302\n\nMembers and non-members welcome!
X-ALT-DESC;FMTTYPE=text/html:<strong>Explore the Exciting World of Cruising</strong><br />\nThe 2019 AAA Cruise Show is one of the largest gatherings of world-class travel providers in Washington. Come get the latest tips and trends from knowledgeable travel experts\, attend insightful presentations and take advantage of special savings. SPECIAL OFFERS:*<br />\n&bull\;Day-of-Show specials with a $10 per person deposit<br />\n&bull\;Receive up to $100 onboard spending credit<br />\n&bull\;Save 15% off all Travel Store gear\, accessories and luggage at the cruise show<br />\n&bull\;Earn 3% cash back when you book travel with the AAA Member Rewards Visa&reg\; card<br />\nRSVP: Online or (425) 744-7302<br />\nMembers and non-members welcome!
LOCATION:ANGEL OF THE WINDS ARENA 2000 HEWITT AVENUE EVERETT
UID:e.3041.693
SEQUENCE:3
DTSTAMP:20260422T205544Z
URL:https://business.lynnwoodchamber.org/events/details/aaa-cruise-show-693
END:VEVENT

END:VCALENDAR
